BEGIN:VCALENDAR
VERSION:2.0
PRODID:-//NicheVision Forensics, LLC - ECPv6.15.20//NONSGML v1.0//EN
CALSCALE:GREGORIAN
METHOD:PUBLISH
X-ORIGINAL-URL:https://nichevision.com
X-WR-CALDESC:Events for NicheVision Forensics, LLC
REFRESH-INTERVAL;VALUE=DURATION:PT1H
X-Robots-Tag:noindex
X-PUBLISHED-TTL:PT1H
BEGIN:VTIMEZONE
TZID:America/New_York
BEGIN:DAYLIGHT
TZOFFSETFROM:-0500
TZOFFSETTO:-0400
TZNAME:EDT
DTSTART:20250309T070000
END:DAYLIGHT
BEGIN:STANDARD
TZOFFSETFROM:-0400
TZOFFSETTO:-0500
TZNAME:EST
DTSTART:20251102T060000
END:STANDARD
BEGIN:DAYLIGHT
TZOFFSETFROM:-0500
TZOFFSETTO:-0400
TZNAME:EDT
DTSTART:20260308T070000
END:DAYLIGHT
BEGIN:STANDARD
TZOFFSETFROM:-0400
TZOFFSETTO:-0500
TZNAME:EST
DTSTART:20261101T060000
END:STANDARD
BEGIN:DAYLIGHT
TZOFFSETFROM:-0500
TZOFFSETTO:-0400
TZNAME:EDT
DTSTART:20270314T070000
END:DAYLIGHT
BEGIN:STANDARD
TZOFFSETFROM:-0400
TZOFFSETTO:-0500
TZNAME:EST
DTSTART:20271107T060000
END:STANDARD
END:VTIMEZONE
BEGIN:VEVENT
DTSTART;VALUE=DATE:20260517
DTEND;VALUE=DATE:20260522
DTSTAMP:20260421T095634
CREATED:20260420T161145Z
LAST-MODIFIED:20260420T161145Z
UID:1414-1778976000-1779407999@nichevision.com
SUMMARY:2026 ASCLD
DESCRIPTION:Embark on a transformative experience at the 53rd annual American Society of Crime Laboratory Directors (ASCLD) Symposium – the premier gathering for forensic professionals striving to push boundaries\, drive progress\, and reimagine leadership in the field. \nGuided by this year’s inspiring theme\, Breaking Barriers: Leading Through Uncertain Times\, the symposium sets the stage for an extraordinary exchange of groundbreaking ideas\, fostering collective partnerships\, and addressing the challenges that shape the future of forensic science. As forensic science continues to evolve amid rapid advancements and unforeseen challenges\, this event provides a unique opportunity to navigate uncertainty\, drive progress\, and shape the future of the field.
URL:https://nichevision.com/event/2026-ascld/
LOCATION:DeVos Place Convention Center\, 303 Monroe Ave NW\, Grand Rapids\, MI\, 49503\, United States
END:VEVENT
BEGIN:VEVENT
DTSTART;VALUE=DATE:20260525
DTEND;VALUE=DATE:20260531
DTSTAMP:20260421T095634
CREATED:20260420T164424Z
LAST-MODIFIED:20260420T164424Z
UID:1435-1779667200-1780185599@nichevision.com
SUMMARY:2026 IAFS
DESCRIPTION:The IAFS 2026 meeting in Sofia\, Bulgaria\, is dedicated to one clear idea: working together. In a world facing complex security\, legal and humanitarian challenges\, no country\, discipline or institution can stand alone. Forensic sciences must advance through collaboration – across regions\, specialties and generations.
URL:https://nichevision.com/event/2026-iafs/
LOCATION:National Palace of Culture (NDK)\, Bulgaria Blvd 1\, Sofia\, 1463\, Bulgaria
END:VEVENT
BEGIN:VEVENT
DTSTART;VALUE=DATE:20260611
DTEND;VALUE=DATE:20260613
DTSTAMP:20260421T095634
CREATED:20260420T154815Z
LAST-MODIFIED:20260420T154815Z
UID:1410-1781136000-1781308799@nichevision.com
SUMMARY:2026 GITAD
DESCRIPTION:The Genetic Identification Laboratory (LABIGÉN) of the University of Granada will be the organizing entity of the Grupo Iberoamericano de Trabajo en Análisis de DNA (GITAD) to be held in Granada\, Spain\, from 11 to 12. This international meeting brings together each year experts from leading forensic laboratories\, law enforcement agencies\, public prosecutors’ offices\, universities\, and specialists in forensic genetics from more than 15 Ibero-American countries\, as well as Portugal and Spain.
URL:https://nichevision.com/event/2026-gitad/
LOCATION:Gran Hotel Luna de Granada\, Pl. del Guitarrista Manuel Cano\, 2\, Ronda\, Granada\, 18004\, Spain
END:VEVENT
BEGIN:VEVENT
DTSTART;VALUE=DATE:20260817
DTEND;VALUE=DATE:20260822
DTSTAMP:20260421T095634
CREATED:20260420T165414Z
LAST-MODIFIED:20260420T165414Z
UID:1438-1786924800-1787356799@nichevision.com
SUMMARY:ISFG 2026
DESCRIPTION:Come and discover or rediscover the Québec metropolis with us at the next ISFG congress!\, where you can meet your colleagues and exchange ideas with them on the subjects we’re all passionate about.
URL:https://nichevision.com/event/isfg-2026/
LOCATION:Hôtel Bonaventure Montréal.\, 900 Rue De la Gauchetière O\, Montréal\, QC\, H5A 1E4\, Canada
END:VEVENT
BEGIN:VEVENT
DTSTART;VALUE=DATE:20261026
DTEND;VALUE=DATE:20261030
DTSTAMP:20260421T095634
CREATED:20260420T165617Z
LAST-MODIFIED:20260420T165617Z
UID:1441-1792972800-1793318399@nichevision.com
SUMMARY:ISHI 2026
DESCRIPTION:Step into the heart of forensic DNA innovation at ISHI – the largest annual symposium dedicated to your field. Connect with thought leaders\, engage in hands-on workshops\, and absorb presentations that are driving the future of our field.  Save the date for October 26-29\, 2026 and join a vibrant community shaping what comes next in forensic science.
URL:https://nichevision.com/event/ishi-2026/
END:VEVENT
END:VCALENDAR